Workbook

Sheet 彩票销售情况表
A1: 附件1：
A2: 2018年12月全国彩票销售情况表
N3: 单位：亿元
A4: 月 份 | B4: 福利彩票 | H4: 体育彩票 | N4: 合 计
B5: 乐透数字型 | C5: 即开型 | D5: 视频型 | E5: 基诺型 | F5: 小 计 | G5: 1至本月累计 | H5: 乐透数字型 | I5: 竞猜型 | J5: 即开型 | K5: 视频型 | L5: 小 计 | M5: 1至本月累计
A6: 1 月 | B6: 143.53607 | C6: 9.5505197 | D6: 40.144548 | E6: 0.12307016 | F6: =SUM(B6:E6) -> 193.3542 | G6: =F6 -> 193.3542 | H6: 98.727196 | I6: 81.749861 | J6: 9.4554503 | K6: 0.004366323 | L6: =SUM(H6:K6) -> 189.93687 | M6: =L6 -> 189.93687 | N6: =F6+L6 -> 383.29108
A7: 2 月 | B7: 90.748123 | C7: 9.8044123 | D7: 30.551983 | E7: 0.08014298 | F7: =SUM(B7:E7) -> 131.18466 | G7: =G6+F7 -> 324.53886 | H7: 61.705586 | I7: 55.509142 | J7: 8.1906684 | K7: 0.003101475 | L7: =SUM(H7:K7) -> 125.4085 | M7: =M6+L7 -> 315.34537 | N7: =F7+L7 -> 256.59316
A8: 3 月 | B8: 143.69829 | C8: 10.221679 | D8: 43.909614 | E8: 0.11930946 | F8: =SUM(B8:E8) -> 197.94889 | G8: =G7+F8 -> 522.48776 | H8: 101.89032 | I8: 89.789771 | J8: 12.227289 | K8: 0.00998906 | L8: =SUM(H8:K8) -> 203.91737 | M8: =M7+L8 -> 519.26274 | N8: =F8+L8 -> 401.86626
A9: 4 月 | B9: 146.56826 | C9: 9.6528334 | D9: 40.766397 | E9: 0.10550918 | F9: =SUM(B9:E9) -> 197.09299 | G9: =G8+F9 -> 719.58075 | H9: 102.97135 | I9: 107.84691 | J9: 9.1208856 | K9: 0.019757433 | L9: =SUM(H9:K9) -> 219.95891 | M9: =SUM(M8+L9) -> 739.22164 | N9: =SUM(F9+L9) -> 417.0519
A10: 5 月 | B10: 145.67232 | C10: 9.325529 | D10: 40.460508 | E10: 0.099395 | F10: =SUM(B10:E10) -> 195.55775 | G10: =G9+F10 -> 915.1385 | H10: 101.09633 | I10: 101.28382 | J10: 8.9390357 | K10: 0.013185915 | L10: =SUM(H10:K10) -> 211.33236 | M10: =SUM(M9+L10) -> 950.55401 | N10: =SUM(F10+L10) -> 406.89012
A11: 6 月 | B11: 143.52464 | C11: 9.397204 | D11: 37.78859 | E11: 0.095831 | F11: =SUM(B11:E11) -> 190.80627 | G11: =G10+F11 -> 1105.9448 | H11: 91.163667 | I11: 294.8631 | J11: 9.449897 | K11: 0.004965 | L11: =SUM(H11:K11) -> 395.48163 | M11: =SUM(M10+L11) -> 1346.0356 | N11: =SUM(F11+L11) -> 586.28789
A12: 7 月 | B12: 144.03387 | C12: 7.4239633 | D12: 39.526354 | E12: 0.10615356 | F12: =SUM(B12:E12) -> 191.09034 | G12: =G11+F12 -> 1297.0351 | H12: 89.993769 | I12: 257.07624 | J12: 8.2438624 | K12: 0.001912916 | L12: =SUM(H12:K12) -> 355.31578 | M12: =SUM(M11+L12) -> 1701.3514 | N12: =SUM(F12+L12) -> 546.40613
A13: 8 月 | B13: 131.83767 | C13: 7.2768241 | D13: 38.559902 | E13: 0.15779406 | F13: =SUM(B13:E13) -> 177.83219 | G13: =G12+F13 -> 1474.8673 | H13: 90.48119 | I13: 141.48261 | J13: 8.3614792 | K13: 0.002158064 | L13: =SUM(H13:K13) -> 240.32743 | M13: =SUM(M12+L13) -> 1941.6788 | N13: =SUM(F13+L13) -> 418.15963
A14: 9 月 | B14: 128.62608 | C14: 10.832018 | D14: 38.688935 | E14: 0.09972156 | F14: =SUM(B14:E14) -> 178.24675 | G14: =G13+F14 -> 1653.1141 | H14: 85.658275 | I14: 145.864 | J14: 8.667425 | K14: 0.001646126 | L14: =SUM(H14:K14) -> 240.19134 | M14: =SUM(M13+L14) -> 2181.8702 | N14: =SUM(F14+L14) -> 418.4381
A15: 10 月 | B15: 138.5248 | C15: 9.9885148 | D15: 40.614426 | E15: 0.10422264 | F15: =SUM(B15:E15) -> 189.23196 | G15: =F15+G14 -> 1842.346 | H15: 91.173228 | I15: 132.34568 | J15: 9.5623132 | K15: 0.002569481 | L15: =SUM(H15:K15) -> 233.08379 | M15: =M14+L15 -> 2414.954 | N15: =SUM(F15+L15) -> 422.31576
A16: 11 月 | B16: 145.99098 | C16: 10.134037 | D16: 40.947716 | E16: 0.11000696 | F16: =SUM(B16:E16) -> 197.18274 | G16: =F16+G15 -> 2039.5288 | H16: 91.670518 | I16: 128.97221 | J16: 9.3432131 | K16: 0.005300748 | L16: =SUM(H16:K16) -> 229.99124 | M16: =M15+L16 -> 2644.9452 | N16: =SUM(F16+L16) -> 427.17398
A17: 12 月 | B17: 152.89051 | C17: 10.659383 | D17: 42.386288 | E17: 0.0962265 | F17: =SUM(B17:E17) -> 206.03241 | G17: =F17+G16 -> 2245.5612 | H17: 96.509562 | I17: 118.26354 | J17: 9.4339777 | K17: 0.003771417 | L17: =SUM(H17:K17) -> 224.21085 | M17: =M16+L17 -> 2869.1561 | N17: =SUM(F17+L17) -> 430.24326
A18: 总 计 | B18: =SUM(B6:B17) -> 1655.6516 | C18: =SUM(C6:C17) -> 114.26692 | D18: =SUM(D6:D17) -> 474.34526 | E18: =SUM(E6:E17) -> 1.2973831 | F18: =SUM(F6:F17) -> 2245.5612 | G18: ─ | H18: =SUM(H6:H17) -> 1103.041 | I18: =SUM(I6:I17) -> 1655.0469 | J18: =SUM(J6:J17) -> 110.9955 | K18: =SUM(K6:K17) -> 0.072723958 | L18: =SUM(L6:L17) -> 2869.1561 | M18: ─ | N18: =SUM(N6:N17) -> 5114.7173

Sheet 各类型彩票销售情况表
A1: 附件2：
A2: 2018年12月全国各类型彩票销售情况表
H3: 单位：亿元
A4: 类型 | B4: 本月 | F4: 本年累计
B5: 本年销售额 | C5: 上年销售额 | D5: 同比增长(%) | E5: 环比增长(%) | F5: 本年销售额 | G5: 上年销售额 | H5: 同比增长(%)
A6: 一、福利彩票 | B6: =SUM(B7:B10) -> 206.03241 | C6: 206.4953 | D6: =(B6-C6)/C6 -> -0.0022416373 | E6: =(B6-'[1]2018年11月'!B2)/'[1]2018年11月'!B2 -> 0.044880573 | F6: =SUM(F7:F10) -> 2245.5612 | G6: 2169.768 | H6: =(F6-G6)/G6 -> 0.034931465
A7: （一）乐透数字型 | B7: 152.89051 | C7: 154.0984 | D7: =(B7-C7)/C7 -> -0.0078384027 | E7: =(B7-'[1]2018年11月'!B3)/'[1]2018年11月'!B3 -> 0.047260015 | F7: 1655.6516 | G7: 1579.539 | H7: =(F7-G7)/G7 -> 0.048186601
A8: （二）即开型 | B8: 10.659383 | C8: 11.9169 | D8: =(B8-C8)/C8 -> -0.10552382 | E8: =(B8-'[1]2018年11月'!B4)/'[1]2018年11月'!B4 -> 0.051839807 | F8: 114.26692 | G8: 126.3402 | H8: =(F8-G8)/G8 -> -0.095561685
A9: （三）视频型 | B9: 42.386288 | C9: 40.3517 | D9: =(B9-C9)/C9 -> 0.050421371 | E9: =(B9-'[1]2018年11月'!B5)/'[1]2018年11月'!B5 -> 0.035131933 | F9: 474.34526 | G9: 462.0645 | H9: =(F9-G9)/G9 -> 0.026578019
A10: （四）基诺型 | B10: 0.0962265 | C10: 0.1283 | D10: =(B10-C10)/C10 -> -0.24998831 | E10: =(B10-'[1]2018年11月'!B6)/'[1]2018年11月'!B6 -> -0.12526898 | F10: 1.2973828 | G10: 1.8243 | H10: =(F10-G10)/G10 -> -0.28883252
A11: 二、体育彩票 | B11: =SUM(B12:B15) -> 224.21085 | C11: 190.3212 | D11: =(B11-C11)/C11 -> 0.17806556 | E11: =(B11-'[1]2018年11月'!B7)/'[1]2018年11月'!B7 -> -0.025133106 | F11: =SUM(F12:F15) -> 2869.1561 | G11: 2096.9229 | H11: =(F11-G11)/G11 -> 0.36826971
A12: （一）乐透数字型 | B12: 96.509562 | C12: 96.1436 | D12: =(B12-C12)/C12 -> 0.0038064064 | E12: =(B12-'[1]2018年11月'!B8)/'[1]2018年11月'!B8 -> 0.052787345 | F12: 1103.041 | G12: 1048.6057 | H12: =(F12-G12)/G12 -> 0.051912061
A13: （二）竞猜型 | B13: 118.26354 | C13: 85.8659 | D13: =(B13-C13)/C13 -> 0.37730507 | E13: =(B13-'[1]2018年11月'!B9)/'[1]2018年11月'!B9 -> -0.083030853 | F13: 1655.0469 | G13: 928.5218 | H13: =(F13-G13)/G13 -> 0.78245344
A14: （三）即开型 | B14: 9.4339777 | C14: 8.3075 | D14: =(B14-C14)/C14 -> 0.13559768 | E14: =(B14-'[1]2018年11月'!B10)/'[1]2018年11月'!B10 -> 0.0097145007 | F14: 110.9955 | G14: 119.7164 | H14: =(F14-G14)/G14 -> -0.072846356
A15: （四）视频型 | B15: 0.003771417 | C15: 0.0042 | D15: =(B15-C15)/C15 -> -0.10204357 | E15: =(B15-'[1]2018年11月'!B11)/'[1]2018年11月'!B11 -> -0.2885123 | F15: 0.072723874 | G15: 0.079 | H15: =(F15-G15)/G15 -> -0.079444633
A16: 三、合计 | B16: =B6+B11 -> 430.24326 | C16: 396.8165 | D16: =(B16-C16)/C16 -> 0.084237331 | E16: =(B16-'[1]2018年11月'!B12)/'[1]2018年11月'!B12 -> 0.0071850817 | F16: =F6+F11 -> 5114.7173 | G16: 4266.6909 | H16: =(F16-G16)/G16 -> 0.19875505
A17: （一）乐透数字型 | B17: =B7+B12 -> 249.40008 | C17: 250.242 | D17: =(B17-C17)/C17 -> -0.0033644381 | E17: =(B17-'[1]2018年11月'!B13)/'[1]2018年11月'!B13 -> 0.04939201 | F17: =F7+F12 -> 2758.6926 | G17: 2628.1447 | H17: =(F17-G17)/G17 -> 0.049673026
A18: （二）竞猜型 | B18: =B13 -> 118.26354 | C18: 85.8659 | D18: =(B18-C18)/C18 -> 0.37730507 | E18: =(B18-'[1]2018年11月'!B14)/'[1]2018年11月'!B14 -> -0.083030853 | F18: =F13 -> 1655.0469 | G18: 928.5218 | H18: =(F18-G18)/G18 -> 0.78245344
A19: （三）即开型 | B19: =B8+B14 -> 20.093361 | C19: 20.2244 | D19: =(B19-C19)/C19 -> -0.0064792553 | E19: =(B19-'[1]2018年11月'!B15)/'[1]2018年11月'!B15 -> 0.031632349 | F19: =F8+F14 -> 225.26241 | G19: 246.0566 | H19: =(F19-G19)/G19 -> -0.084509767
A20: （四）视频型 | B20: =B9+B15 -> 42.390059 | C20: 40.3559 | D20: =(B20-C20)/C20 -> 0.050405503 | E20: =(B20-'[1]2018年11月'!B16)/'[1]2018年11月'!B16 -> 0.035090042 | F20: =F9+F15 -> 474.41798 | G20: 462.1435 | H20: =(F20-G20)/G20 -> 0.026559895
A21: （五）基诺型 | B21: =B10 -> 0.0962265 | C21: 0.1283 | D21: =(B21-C21)/C21 -> -0.24998831 | E21: =(B21-'[1]2018年11月'!B17)/'[1]2018年11月'!B17 -> -0.12526898 | F21: =F10 -> 1.2973828 | G21: 1.8243 | H21: =(F21-G21)/G21 -> -0.28883252

Sheet 各地区彩票销售情况表
A1: 附件3：
A2: 2018年12月全国各地区彩票销售情况表
L3: 单位：万元
A4: 地区 | B4: 福利彩票 | F4: 体育彩票 | J4: 销售合计
B5: 本月 | D5: 本年累计 | F5: 本月 | H5: 本年累计 | J5: 本月 | L5: 本年累计
B6: 销售额 | C6: 比上年同 | D6: 销售额 | E6: 比上年同 | F6: 销售额 | G6: 比上年同 | H6: 销售额 | I6: 比上年同 | J6: 销售额 | K6: 比上年同 | L6: 销售额 | M6: 比上年同
C7: 期增长% | E7: 期增长% | G7: 期增长% | I7: 期增长% | K7: 期增长% | M7: 期增长%
A8: 北京 | B8: 41352.346 | C8: =(B8-[2]与17年同期销量比较!B7)/[2]与17年同期销量比较!B7*100 -> 4.6365104 | D8: 473305.37 | E8: =(D8-[2]与17年同期销量比较!D7)/[2]与17年同期销量比较!D7*100 -> 1.3480869 | F8: 71420.505 | G8: =(F8-[2]与17年同期销量比较!F7)/[2]与17年同期销量比较!F7*100 -> 42.642765 | H8: 782200.25 | I8: =(H8-[2]与17年同期销量比较!H7)/[2]与17年同期销量比较!H7*100 -> 28.406155 | J8: =B8+F8 -> 112772.85 | K8: =(J8-[2]与17年同期销量比较!J7)/[2]与17年同期销量比较!J7*100 -> 25.877326 | L8: =D8+H8 -> 1255505.6 | M8: =(L8-[2]与17年同期销量比较!L7)/[2]与17年同期销量比较!L7*100 -> 16.664171
A9: 天津 | B9: 33122.154 | C9: =(B9-[2]与17年同期销量比较!B8)/[2]与17年同期销量比较!B8*100 -> -4.4791238 | D9: 385149.71 | E9: =(D9-[2]与17年同期销量比较!D8)/[2]与17年同期销量比较!D8*100 -> 0.90769189 | F9: 31287.054 | G9: =(F9-[2]与17年同期销量比较!F8)/[2]与17年同期销量比较!F8*100 -> 8.8009008 | H9: 490424.64 | I9: =(H9-[2]与17年同期销量比较!H8)/[2]与17年同期销量比较!H8*100 -> 45.799612 | J9: =B9+F9 -> 64409.208 | K9: =(J9-[2]与17年同期销量比较!J8)/[2]与17年同期销量比较!J8*100 -> 1.5412816 | L9: =D9+H9 -> 875574.35 | M9: =(L9-[2]与17年同期销量比较!L8)/[2]与17年同期销量比较!L8*100 -> 21.937093
A10: 河北 | B10: 50402.345 | C10: =(B10-[2]与17年同期销量比较!B9)/[2]与17年同期销量比较!B9*100 -> 0.72091775 | D10: 588779.94 | E10: =(D10-[2]与17年同期销量比较!D9)/[2]与17年同期销量比较!D9*100 -> 5.3100307 | F10: 100522.37 | G10: =(F10-[2]与17年同期销量比较!F9)/[2]与17年同期销量比较!F9*100 -> -1.2651283 | H10: 1340465.4 | I10: =(H10-[2]与17年同期销量比较!H9)/[2]与17年同期销量比较!H9*100 -> 32.684362 | J10: =B10+F10 -> 150924.71 | K10: =(J10-[2]与17年同期销量比较!J9)/[2]与17年同期销量比较!J9*100 -> -0.610643 | L10: =D10+H10 -> 1929245.3 | M10: =(L10-[2]与17年同期销量比较!L9)/[2]与17年同期销量比较!L9*100 -> 22.932115
A11: 山西 | B11: 35813.278 | C11: =(B11-[2]与17年同期销量比较!B10)/[2]与17年同期销量比较!B10*100 -> -15.921723 | D11: 407158.01 | E11: =(D11-[2]与17年同期销量比较!D10)/[2]与17年同期销量比较!D10*100 -> -7.3869523 | F11: 32190.389 | G11: =(F11-[2]与17年同期销量比较!F10)/[2]与17年同期销量比较!F10*100 -> -0.29077819 | H11: 428358.26 | I11: =(H11-[2]与17年同期销量比较!H10)/[2]与17年同期销量比较!H10*100 -> 22.647238 | J11: =B11+F11 -> 68003.667 | K11: =(J11-[2]与17年同期销量比较!J10)/[2]与17年同期销量比较!J10*100 -> -9.182441 | L11: =D11+H11 -> 835516.27 | M11: =(L11-[2]与17年同期销量比较!L10)/[2]与17年同期销量比较!L10*100 -> 5.9098335
A12: 内蒙古 | B12: 67687.05 | C12: =(B12-[2]与17年同期销量比较!B11)/[2]与17年同期销量比较!B11*100 -> -8.5819314 | D12: 640786.7 | E12: =(D12-[2]与17年同期销量比较!D11)/[2]与17年同期销量比较!D11*100 -> 2.2729 | F12: 54849.465 | G12: =(F12-[2]与17年同期销量比较!F11)/[2]与17年同期销量比较!F11*100 -> 10.183652 | H12: 700435.74 | I12: =(H12-[2]与17年同期销量比较!H11)/[2]与17年同期销量比较!H11*100 -> 47.653439 | J12: =B12+F12 -> 122536.51 | K12: =(J12-[2]与17年同期销量比较!J11)/[2]与17年同期销量比较!J11*100 -> -1.0375767 | L12: =D12+H12 -> 1341222.4 | M12: =(L12-[2]与17年同期销量比较!L11)/[2]与17年同期销量比较!L11*100 -> 21.826962
A13: 辽宁 | B13: 92391.651 | C13: =(B13-[2]与17年同期销量比较!B12)/[2]与17年同期销量比较!B12*100 -> 0.084337583 | D13: 1050755.7 | E13: =(D13-[2]与17年同期销量比较!D12)/[2]与17年同期销量比较!D12*100 -> -0.21141443 | F13: 59808.083 | G13: =(F13-[2]与17年同期销量比较!F12)/[2]与17年同期销量比较!F12*100 -> 5.6875758 | H13: 753432.68 | I13: =(H13-[2]与17年同期销量比较!H12)/[2]与17年同期销量比较!H12*100 -> 48.896241 | J13: =B13+F13 -> 152199.73 | K13: =(J13-[2]与17年同期销量比较!J12)/[2]与17年同期销量比较!J12*100 -> 2.2138035 | L13: =D13+H13 -> 1804188.4 | M13: =(L13-[2]与17年同期销量比较!L12)/[2]与17年同期销量比较!L12*100 -> 15.72775
A14: 吉林 | B14: 26170.178 | C14: =(B14-[2]与17年同期销量比较!B13)/[2]与17年同期销量比较!B13*100 -> -32.13016 | D14: 396421.24 | E14: =(D14-[2]与17年同期销量比较!D13)/[2]与17年同期销量比较!D13*100 -> 14.489657 | F14: 36310.81 | G14: =(F14-[2]与17年同期销量比较!F13)/[2]与17年同期销量比较!F13*100 -> -7.3407896 | H14: 451500.46 | I14: =(H14-[2]与17年同期销量比较!H13)/[2]与17年同期销量比较!H13*100 -> 27.72957 | J14: =B14+F14 -> 62480.988 | K14: =(J14-[2]与17年同期销量比较!J13)/[2]与17年同期销量比较!J13*100 -> -19.635338 | L14: =D14+H14 -> 847921.7 | M14: =(L14-[2]与17年同期销量比较!L13)/[2]与17年同期销量比较!L13*100 -> 21.178022
A15: 黑龙江 | B15: 47109.332 | C15: =(B15-[2]与17年同期销量比较!B14)/[2]与17年同期销量比较!B14*100 -> 7.1880497 | D15: 460193.02 | E15: =(D15-[2]与17年同期销量比较!D14)/[2]与17年同期销量比较!D14*100 -> -3.4355312 | F15: 50804.016 | G15: =(F15-[2]与17年同期销量比较!F14)/[2]与17年同期销量比较!F14*100 -> 13.07639 | H15: 629595.57 | I15: =(H15-[2]与17年同期销量比较!H14)/[2]与17年同期销量比较!H14*100 -> 11.451145 | J15: =B15+F15 -> 97913.348 | K15: =(J15-[2]与17年同期销量比较!J14)/[2]与17年同期销量比较!J14*100 -> 10.164642 | L15: =D15+H15 -> 1089788.6 | M15: =(L15-[2]与17年同期销量比较!L14)/[2]与17年同期销量比较!L14*100 -> 4.6391787
A16: 上海 | B16: 45994.532 | C16: =(B16-[2]与17年同期销量比较!B15)/[2]与17年同期销量比较!B15*100 -> 2.38308 | D16: 512340.77 | E16: =(D16-[2]与17年同期销量比较!D15)/[2]与17年同期销量比较!D15*100 -> 5.46229 | F16: 41204.034 | G16: =(F16-[2]与17年同期销量比较!F15)/[2]与17年同期销量比较!F15*100 -> 34.047457 | H16: 460298.47 | I16: =(H16-[2]与17年同期销量比较!H15)/[2]与17年同期销量比较!H15*100 -> 43.197991 | J16: =B16+F16 -> 87198.566 | K16: =(J16-[2]与17年同期销量比较!J15)/[2]与17年同期销量比较!J15*100 -> 15.246969 | L16: =D16+H16 -> 972639.25 | M16: =(L16-[2]与17年同期销量比较!L15)/[2]与17年同期销量比较!L15*100 -> 20.488476
A17: 江苏 | B17: 179691 | C17: =(B17-[2]与17年同期销量比较!B16)/[2]与17年同期销量比较!B16*100 -> -2.3799696 | D17: 1597979.7 | E17: =(D17-[2]与17年同期销量比较!D16)/[2]与17年同期销量比较!D16*100 -> 3.9164441 | F17: 221275.27 | G17: =(F17-[2]与17年同期销量比较!F16)/[2]与17年同期销量比较!F16*100 -> 2.6745249 | H17: 2852390 | I17: =(H17-[2]与17年同期销量比较!H16)/[2]与17年同期销量比较!H16*100 -> 41.697907 | J17: =B17+F17 -> 400966.27 | K17: =(J17-[2]与17年同期销量比较!J16)/[2]与17年同期销量比较!J16*100 -> 0.34612345 | L17: =D17+H17 -> 4450369.7 | M17: =(L17-[2]与17年同期销量比较!L16)/[2]与17年同期销量比较!L16*100 -> 25.335615
A18: 浙江 | B18: 156206.54 | C18: =(B18-[2]与17年同期销量比较!B17)/[2]与17年同期销量比较!B17*100 -> 5.2183956 | D18: 1677928.2 | E18: =(D18-[2]与17年同期销量比较!D17)/[2]与17年同期销量比较!D17*100 -> 7.2575994 | F18: 157410.47 | G18: =(F18-[2]与17年同期销量比较!F17)/[2]与17年同期销量比较!F17*100 -> 39.340099 | H18: 2062356.6 | I18: =(H18-[2]与17年同期销量比较!H17)/[2]与17年同期销量比较!H17*100 -> 50.493461 | J18: =B18+F18 -> 313617.01 | K18: =(J18-[2]与17年同期销量比较!J17)/[2]与17年同期销量比较!J17*100 -> 19.963108 | L18: =D18+H18 -> 3740284.9 | M18: =(L18-[2]与17年同期销量比较!L17)/[2]与17年同期销量比较!L17*100 -> 27.446545
A19: 安徽 | B19: 67780.257 | C19: =(B19-[2]与17年同期销量比较!B18)/[2]与17年同期销量比较!B18*100 -> 7.5787146 | D19: 758482.94 | E19: =(D19-[2]与17年同期销量比较!D18)/[2]与17年同期销量比较!D18*100 -> 2.4194257 | F19: 76476.714 | G19: =(F19-[2]与17年同期销量比较!F18)/[2]与17年同期销量比较!F18*100 -> 17.812727 | H19: 972782.24 | I19: =(H19-[2]与17年同期销量比较!H18)/[2]与17年同期销量比较!H18*100 -> 61.136883 | J19: =B19+F19 -> 144256.97 | K19: =(J19-[2]与17年同期销量比较!J18)/[2]与17年同期销量比较!J18*100 -> 12.772066 | L19: =D19+H19 -> 1731265.2 | M19: =(L19-[2]与17年同期销量比较!L18)/[2]与17年同期销量比较!L18*100 -> 28.788998
... A39: 总计 | B39: 2060324.1 | C39: =(B39-[2]与17年同期销量比较!B38)/[2]与17年同期销量比较!B38*100 -> -0.22417936 | D39: 22455612 | E39: =(D39-[2]与17年同期销量比较!D38)/[2]与17年同期销量比较!D38*100 -> 3.4931504 | F39: 2242108.5 | G39: =(F39-[2]与17年同期销量比较!F38)/[2]与17年同期销量比较!F38*100 -> 17.806567 | H39: 28691561 | I39: =(H39-[2]与17年同期销量比较!H38)/[2]与17年同期销量比较!H38*100 -> 36.826967 | J39: =B39+F39 -> 4302432.6 | K39: =(J39-[2]与17年同期销量比较!J38)/[2]与17年同期销量比较!J38*100 -> 8.4237291 | L39: =D39+H39 -> 51147173 | M39: =(L39-[2]与17年同期销量比较!L38)/[2]与17年同期销量比较!L38*100 -> 19.875506
