Workbook

Sheet 3月销售情况表
A1: 附件1：
A2: 2018年3月全国彩票销售情况表
N3: 单位：亿元
A4: 月 份 | B4: 福利彩票 | H4: 体育彩票 | N4: 合 计
B5: 乐透数字型 | C5: 即开型 | D5: 视频型 | E5: 基诺型 | F5: 小 计 | G5: 1至本月累计 | H5: 乐透数字型 | I5: 竞猜型 | J5: 即开型 | K5: 视频型 | L5: 小 计 | M5: 1至本月累计
A6: 1 月 | B6: 143.53607 | C6: 9.5505197 | D6: 40.144548 | E6: 0.12307016 | F6: =SUM(B6:E6) -> 193.3542 | G6: =F6 -> 193.3542 | H6: 98.727196 | I6: 81.749861 | J6: 9.4554503 | K6: 0.004366323 | L6: =SUM(H6:K6) -> 189.93687 | M6: =L6 -> 189.93687 | N6: =F6+L6 -> 383.29108
A7: 2 月 | B7: 90.748123 | C7: 9.8044123 | D7: 30.551983 | E7: 0.08014298 | F7: =SUM(B7:E7) -> 131.18466 | G7: =G6+F7 -> 324.53886 | H7: 61.705586 | I7: 55.509142 | J7: 8.1906684 | K7: 0.003101475 | L7: =SUM(H7:K7) -> 125.4085 | M7: =M6+L7 -> 315.34537 | N7: =F7+L7 -> 256.59316
A8: 3 月 | B8: 143.69829 | C8: 10.221679 | D8: 43.909614 | E8: 0.11930946 | F8: =SUM(B8:E8) -> 197.94889 | G8: =G7+F8 -> 522.48776 | H8: 101.89032 | I8: 89.789771 | J8: 12.227289 | K8: 0.00998906 | L8: =SUM(H8:K8) -> 203.91737 | M8: =M7+L8 -> 519.26274 | N8: =F8+L8 -> 401.86626
A9: 4 月
A10: 5 月
A11: 6 月
A12: 7 月
A13: 8 月
A14: 9 月
A15: 10 月
A16: 11 月
A17: 12 月
A18: 总 计 | B18: =SUM(B6:B17) -> 377.98248 | C18: =SUM(C6:C17) -> 29.576611 | D18: =SUM(D6:D17) -> 114.60614 | E18: =SUM(E6:E17) -> 0.3225226 | F18: =SUM(F6:F17) -> 522.48776 | G18: =G8 -> 522.48776 | H18: =SUM(H6:H17) -> 262.3231 | I18: =SUM(I6:I17) -> 227.04877 | J18: =SUM(J6:J17) -> 29.873407 | K18: =SUM(K6:K17) -> 0.017456858 | L18: =SUM(L6:L17) -> 519.26274 | M18: =M8 -> 519.26274 | N18: =SUM(N6:N17) -> 1041.7505

Sheet 3月各类型彩票销售情况表
A1: 附件2：
A2: 2018年3月全国各类型彩票销售情况表
H3: 单位：亿元
A4: 类型 | B4: 本月 | F4: 本年累计
B5: 本年销售额 | C5: 上年销售额 | D5: 同比增长(%) | E5: 环比增长(%) | F5: 本年销售额 | G5: 上年销售额 | H5: 同比增长(%)
A6: 一、福利彩票 | B6: =SUM(B7:B10) -> 197.94889 | C6: 198.30335 | D6: =(B6-C6)/C6 -> -0.0017874599 | E6: =(B6-'[1]2018年2月'!B2)/'[1]2018年2月'!B2 -> 0.5089332 | F6: =SUM(F7:F10) -> 522.48776 | G6: 513.38174 | H6: =(F6-G6)/G6 -> 0.01773733
A7: （一）乐透数字型 | B7: 143.69829 | C7: 144.20667 | D7: =(B7-C7)/C7 -> -0.0035253978 | E7: =(B7-'[1]2018年2月'!B3)/'[1]2018年2月'!B3 -> 0.58348497 | F7: 377.98248 | G7: 366.49472 | H7: =(F7-G7)/G7 -> 0.031344945
A8: （二）即开型 | B8: 10.221679 | C8: 11.02881 | D8: =(B8-C8)/C8 -> -0.073183872 | E8: =(B8-'[1]2018年2月'!B4)/'[1]2018年2月'!B4 -> 0.042559085 | F8: 29.576611 | G8: 32.241485 | H8: =(F8-G8)/G8 -> -0.082653565
A9: （三）视频型 | B9: 43.909614 | C9: 42.893544 | D9: =(B9-C9)/C9 -> 0.023688178 | E9: =(B9-'[1]2018年2月'!B5)/'[1]2018年2月'!B5 -> 0.43720996 | F9: 114.60614 | G9: 114.19503 | H9: =(F9-G9)/G9 -> 0.003600105
A10: （四）基诺型 | B10: 0.11930946 | C10: 0.17432172 | D10: =(B10-C10)/C10 -> -0.31557892 | E10: =(B10-'[1]2018年2月'!B6)/'[1]2018年2月'!B6 -> 0.48870756 | F10: 0.3225226 | G10: 0.45049856 | H10: =(F10-G10)/G10 -> -0.28407629
A11: 二、体育彩票 | B11: =SUM(B12:B15) -> 203.91737 | C11: 181.02507 | D11: =(B11-C11)/C11 -> 0.12645926 | E11: =(B11-'[1]2018年2月'!B7)/'[1]2018年2月'!B7 -> 0.6260251 | F11: =SUM(F12:F15) -> 519.26274 | G11: 439.09482 | H11: =(F11-G11)/G11 -> 0.18257541
A12: （一）乐透数字型 | B12: 101.89032 | C12: 100.25948 | D12: =(B12-C12)/C12 -> 0.016266112 | E12: =(B12-'[1]2018年2月'!B8)/'[1]2018年2月'!B8 -> 0.65123329 | F12: 262.3231 | G12: 240.60321 | H12: =(F12-G12)/G12 -> 0.090272642
A13: （二）竞猜型 | B13: 89.789771 | C13: 67.686057 | D13: =(B13-C13)/C13 -> 0.32656229 | E13: =(B13-'[1]2018年2月'!B9)/'[1]2018年2月'!B9 -> 0.61756726 | F13: 227.04877 | G13: 166.75921 | H13: =(F13-G13)/G13 -> 0.36153665
A14: （三）即开型 | B14: 12.227289 | C14: 13.068632 | D14: =(B14-C14)/C14 -> -0.064378825 | E14: =(B14-'[1]2018年2月'!B10)/'[1]2018年2月'!B10 -> 0.49283159 | F14: 29.873407 | G14: 31.702793 | H14: =(F14-G14)/G14 -> -0.057704239
A15: （四）视频型 | B15: 0.00998906 | C15: 0.010895128 | D15: =(B15-C15)/C15 -> -0.083162676 | E15: =(B15-'[1]2018年2月'!B11)/'[1]2018年2月'!B11 -> 2.220745 | F15: 0.017456858 | G15: 0.02960757 | H15: =(F15-G15)/G15 -> -0.41039207
A16: 三、合计 | B16: =B6+B11 -> 401.86626 | C16: 379.32842 | D16: =(B16-C16)/C16 -> 0.059415104 | E16: =(B16-'[1]2018年2月'!B12)/'[1]2018年2月'!B12 -> 0.56616123 | F16: =F6+F11 -> 1041.7505 | G16: 952.47656 | H16: =(F16-G16)/G16 -> 0.093728227
A17: （一）乐透数字型 | B17: =B7+B12 -> 245.58861 | C17: 244.46616 | D17: =(B17-C17)/C17 -> 0.0045914171 | E17: =(B17-'[1]2018年2月'!B13)/'[1]2018年2月'!B13 -> 0.61090607 | F17: =F7+F12 -> 640.30558 | G17: 607.09793 | H17: =(F17-G17)/G17 -> 0.054698991
A18: （二）竞猜型 | B18: =B13 -> 89.789771 | C18: 67.686057 | D18: =(B18-C18)/C18 -> 0.32656229 | E18: =(B18-'[1]2018年2月'!B14)/'[1]2018年2月'!B14 -> 0.61756726 | F18: =F13 -> 227.04877 | G18: 166.75921 | H18: =(F18-G18)/G18 -> 0.36153665
A19: （三）即开型 | B19: =B8+B14 -> 22.448968 | C19: 24.097442 | D19: =(B19-C19)/C19 -> -0.06840868 | E19: =(B19-'[1]2018年2月'!B15)/'[1]2018年2月'!B15 -> 0.24750581 | F19: =F8+F14 -> 59.450019 | G19: 63.944278 | H19: =(F19-G19)/G19 -> -0.070283993
A20: （四）视频型 | B20: =B9+B15 -> 43.919603 | C20: 42.904439 | D20: =(B20-C20)/C20 -> 0.023661044 | E20: =(B20-'[1]2018年2月'!B16)/'[1]2018年2月'!B16 -> 0.437391 | F20: =F9+F15 -> 114.6236 | G20: 114.22464 | H20: =(F20-G20)/G20 -> 0.0034927963
A21: （五）基诺型 | B21: =B10 -> 0.11930946 | C21: 0.17432172 | D21: =(B21-C21)/C21 -> -0.31557892 | E21: =(B21-'[1]2018年2月'!B17)/'[1]2018年2月'!B17 -> 0.48870756 | F21: =F10 -> 0.3225226 | G21: 0.45049856 | H21: =(F21-G21)/G21 -> -0.28407629

Sheet 3月各地区销售情况表
A1: 附表3：
A2: 2018年3月全国各类型彩票销售情况表
L3: 单位：万元
A4: 地区 | B4: 福利彩票 | F4: 体育彩票 | J4: 销售合计
B5: 本月 | D5: 本年累计 | F5: 本月 | H5: 本年累计 | J5: 本月 | L5: 本年累计
B6: 销售额 | C6: 比上年同 | D6: 销售额 | E6: 比上年同 | F6: 销售额 | G6: 比上年同 | H6: 销售额 | I6: 比上年同 | J6: 销售额 | K6: 比上年同 | L6: 销售额 | M6: 比上年同
C7: 期增长% | E7: 期增长% | G7: 期增长% | I7: 期增长% | K7: 期增长% | M7: 期增长%
A8: 北京 | B8: 40410.299 | C8: =(B8-[2]与17年同期销量比较!B7)/[2]与17年同期销量比较!B7*100 -> -16.461997 | D8: 102883.46 | E8: =(D8-[2]与17年同期销量比较!D7)/[2]与17年同期销量比较!D7*100 -> -7.6378933 | F8: 50718.047 | G8: =(F8-[2]与17年同期销量比较!F7)/[2]与17年同期销量比较!F7*100 -> -13.944538 | H8: 133550.21 | I8: =(H8-[2]与17年同期销量比较!H7)/[2]与17年同期销量比较!H7*100 -> -6.3988087 | J8: =B8+F8 -> 91128.346 | K8: =(J8-[2]与17年同期销量比较!J7)/[2]与17年同期销量比较!J7*100 -> -15.079366 | L8: =D8+H8 -> 236433.67 | M8: =(L8-[2]与17年同期销量比较!L7)/[2]与17年同期销量比较!L7*100 -> -6.942055
A9: 天津 | B9: 40026.568 | C9: =(B9-[2]与17年同期销量比较!B8)/[2]与17年同期销量比较!B8*100 -> -1.1356369 | D9: 96368.121 | E9: =(D9-[2]与17年同期销量比较!D8)/[2]与17年同期销量比较!D8*100 -> 1.9158459 | F9: 30559.8 | G9: =(F9-[2]与17年同期销量比较!F8)/[2]与17年同期销量比较!F8*100 -> 30.137518 | H9: 83377.293 | I9: =(H9-[2]与17年同期销量比较!H8)/[2]与17年同期销量比较!H8*100 -> 51.880276 | J9: =B9+F9 -> 70586.368 | K9: =(J9-[2]与17年同期销量比较!J8)/[2]与17年同期销量比较!J8*100 -> 10.344573 | L9: =D9+H9 -> 179745.41 | M9: =(L9-[2]与17年同期销量比较!L8)/[2]与17年同期销量比较!L8*100 -> 20.268627
A10: 河北 | B10: 49390.247 | C10: =(B10-[2]与17年同期销量比较!B9)/[2]与17年同期销量比较!B9*100 -> -8.3421683 | D10: 131721.73 | E10: =(D10-[2]与17年同期销量比较!D9)/[2]与17年同期销量比较!D9*100 -> -5.0560248 | F10: 107881.23 | G10: =(F10-[2]与17年同期销量比较!F9)/[2]与17年同期销量比较!F9*100 -> 3.3120557 | H10: 272608.54 | I10: =(H10-[2]与17年同期销量比较!H9)/[2]与17年同期销量比较!H9*100 -> 3.8733867 | J10: =B10+F10 -> 157271.48 | K10: =(J10-[2]与17年同期销量比较!J9)/[2]与17年同期销量比较!J9*100 -> -0.65484822 | L10: =D10+H10 -> 404330.27 | M10: =(L10-[2]与17年同期销量比较!L9)/[2]与17年同期销量比较!L9*100 -> 0.78540835
A11: 山西 | B11: 39245.772 | C11: =(B11-[2]与17年同期销量比较!B10)/[2]与17年同期销量比较!B10*100 -> 0.68548002 | D11: 100349.04 | E11: =(D11-[2]与17年同期销量比较!D10)/[2]与17年同期销量比较!D10*100 -> 2.3927717 | F11: 24308.145 | G11: =(F11-[2]与17年同期销量比较!F10)/[2]与17年同期销量比较!F10*100 -> 24.754059 | H11: 67647.882 | I11: =(H11-[2]与17年同期销量比较!H10)/[2]与17年同期销量比较!H10*100 -> 38.9503 | J11: =B11+F11 -> 63553.918 | K11: =(J11-[2]与17年同期销量比较!J10)/[2]与17年同期销量比较!J10*100 -> 8.7071218 | L11: =D11+H11 -> 167996.92 | M11: =(L11-[2]与17年同期销量比较!L10)/[2]与17年同期销量比较!L10*100 -> 14.525936
A12: 内蒙古 | B12: 55849.069 | C12: =(B12-[2]与17年同期销量比较!B11)/[2]与17年同期销量比较!B11*100 -> -0.98309193 | D12: 162160.42 | E12: =(D12-[2]与17年同期销量比较!D11)/[2]与17年同期销量比较!D11*100 -> -0.36642483 | F12: 44522.62 | G12: =(F12-[2]与17年同期销量比较!F11)/[2]与17年同期销量比较!F11*100 -> 12.014629 | H12: 117453.19 | I12: =(H12-[2]与17年同期销量比较!H11)/[2]与17年同期销量比较!H11*100 -> 18.792153 | J12: =B12+F12 -> 100371.69 | K12: =(J12-[2]与17年同期销量比较!J11)/[2]与17年同期销量比较!J11*100 -> 4.3899552 | L12: =D12+H12 -> 279613.61 | M12: =(L12-[2]与17年同期销量比较!L11)/[2]与17年同期销量比较!L11*100 -> 6.8738217
A13: 辽宁 | B13: 96847.052 | C13: =(B13-[2]与17年同期销量比较!B12)/[2]与17年同期销量比较!B12*100 -> -2.0050712 | D13: 253681.16 | E13: =(D13-[2]与17年同期销量比较!D12)/[2]与17年同期销量比较!D12*100 -> -3.0871579 | F13: 51885.02 | G13: =(F13-[2]与17年同期销量比较!F12)/[2]与17年同期销量比较!F12*100 -> 24.838133 | H13: 124194.92 | I13: =(H13-[2]与17年同期销量比较!H12)/[2]与17年同期销量比较!H12*100 -> 21.875511 | J13: =B13+F13 -> 148732.07 | K13: =(J13-[2]与17年同期销量比较!J12)/[2]与17年同期销量比较!J12*100 -> 5.9417135 | L13: =D13+H13 -> 377876.08 | M13: =(L13-[2]与17年同期销量比较!L12)/[2]与17年同期销量比较!L12*100 -> 3.9076625
A14: 吉林 | B14: 50534.886 | C14: =(B14-[2]与17年同期销量比较!B13)/[2]与17年同期销量比较!B13*100 -> 34.56068 | D14: 110248.28 | E14: =(D14-[2]与17年同期销量比较!D13)/[2]与17年同期销量比较!D13*100 -> 23.406808 | F14: 32060.954 | G14: =(F14-[2]与17年同期销量比较!F13)/[2]与17年同期销量比较!F13*100 -> -7.2116081 | H14: 91113.358 | I14: =(H14-[2]与17年同期销量比较!H13)/[2]与17年同期销量比较!H13*100 -> 8.9995579 | J14: =B14+F14 -> 82595.839 | K14: =(J14-[2]与17年同期销量比较!J13)/[2]与17年同期销量比较!J13*100 -> 14.544268 | L14: =D14+H14 -> 201361.63 | M14: =(L14-[2]与17年同期销量比较!L13)/[2]与17年同期销量比较!L13*100 -> 16.442572
A15: 黑龙江 | B15: 43396.772 | C15: =(B15-[2]与17年同期销量比较!B14)/[2]与17年同期销量比较!B14*100 -> -14.693248 | D15: 114798.46 | E15: =(D15-[2]与17年同期销量比较!D14)/[2]与17年同期销量比较!D14*100 -> -9.826485 | F15: 44881.458 | G15: =(F15-[2]与17年同期销量比较!F14)/[2]与17年同期销量比较!F14*100 -> -10.924486 | H15: 124521.08 | I15: =(H15-[2]与17年同期销量比较!H14)/[2]与17年同期销量比较!H14*100 -> -3.7104311 | J15: =B15+F15 -> 88278.231 | K15: =(J15-[2]与17年同期销量比较!J14)/[2]与17年同期销量比较!J14*100 -> -12.817904 | L15: =D15+H15 -> 239319.54 | M15: =(L15-[2]与17年同期销量比较!L14)/[2]与17年同期销量比较!L14*100 -> -6.7444948
A16: 上海 | B16: 43236.495 | C16: =(B16-[2]与17年同期销量比较!B15)/[2]与17年同期销量比较!B15*100 -> 4.6541806 | D16: 110948.54 | E16: =(D16-[2]与17年同期销量比较!D15)/[2]与17年同期销量比较!D15*100 -> -0.81951595 | F16: 30366.584 | G16: =(F16-[2]与17年同期销量比较!F15)/[2]与17年同期销量比较!F15*100 -> 13.220711 | H16: 78535.564 | I16: =(H16-[2]与17年同期销量比较!H15)/[2]与17年同期销量比较!H15*100 -> 16.5154 | J16: =B16+F16 -> 73603.08 | K16: =(J16-[2]与17年同期销量比较!J15)/[2]与17年同期销量比较!J15*100 -> 8.0263449 | L16: =D16+H16 -> 189484.1 | M16: =(L16-[2]与17年同期销量比较!L15)/[2]与17年同期销量比较!L15*100 -> 5.6982666
A17: 江苏 | B17: 128858.04 | C17: =(B17-[2]与17年同期销量比较!B16)/[2]与17年同期销量比较!B16*100 -> 4.5166975 | D17: 346466.28 | E17: =(D17-[2]与17年同期销量比较!D16)/[2]与17年同期销量比较!D16*100 -> 4.6861847 | F17: 194171.95 | G17: =(F17-[2]与17年同期销量比较!F16)/[2]与17年同期销量比较!F16*100 -> 18.356491 | H17: 499835.81 | I17: =(H17-[2]与17年同期销量比较!H16)/[2]与17年同期销量比较!H16*100 -> 20.392717 | J17: =B17+F17 -> 323029.99 | K17: =(J17-[2]与17年同期销量比较!J16)/[2]与17年同期销量比较!J16*100 -> 12.418359 | L17: =D17+H17 -> 846302.09 | M17: =(L17-[2]与17年同期销量比较!L16)/[2]与17年同期销量比较!L16*100 -> 13.425835
A18: 浙江 | B18: 138493.74 | C18: =(B18-[2]与17年同期销量比较!B17)/[2]与17年同期销量比较!B17*100 -> 0.80595485 | D18: 374687.75 | E18: =(D18-[2]与17年同期销量比较!D17)/[2]与17年同期销量比较!D17*100 -> 2.1927279 | F18: 121067.92 | G18: =(F18-[2]与17年同期销量比较!F17)/[2]与17年同期销量比较!F17*100 -> 15.723258 | H18: 308938.92 | I18: =(H18-[2]与17年同期销量比较!H17)/[2]与17年同期销量比较!H17*100 -> 13.443602 | J18: =B18+F18 -> 259561.65 | K18: =(J18-[2]与17年同期销量比较!J17)/[2]与17年同期销量比较!J17*100 -> 7.2546893 | L18: =D18+H18 -> 683626.66 | M18: =(L18-[2]与17年同期销量比较!L17)/[2]与17年同期销量比较!L17*100 -> 6.9877886
A19: 安徽 | B19: 64095.054 | C19: =(B19-[2]与17年同期销量比较!B18)/[2]与17年同期销量比较!B18*100 -> -9.2879701 | D19: 162685.84 | E19: =(D19-[2]与17年同期销量比较!D18)/[2]与17年同期销量比较!D18*100 -> -7.1123824 | F19: 52183.128 | G19: =(F19-[2]与17年同期销量比较!F18)/[2]与17年同期销量比较!F18*100 -> 29.280933 | H19: 141174.66 | I19: =(H19-[2]与17年同期销量比较!H18)/[2]与17年同期销量比较!H18*100 -> 42.505152 | J19: =B19+F19 -> 116278.18 | K19: =(J19-[2]与17年同期销量比较!J18)/[2]与17年同期销量比较!J18*100 -> 4.7344972 | L19: =D19+H19 -> 303860.5 | M19: =(L19-[2]与17年同期销量比较!L18)/[2]与17年同期销量比较!L18*100 -> 10.813463
... A39: 总计 | B39: 1979488.9 | C39: =(B39-[2]与17年同期销量比较!B38)/[2]与17年同期销量比较!B38*100 -> -0.17874601 | D39: 5224877.6 | E39: =(D39-[2]与17年同期销量比较!D38)/[2]与17年同期销量比较!D38*100 -> 1.773733 | F39: 2039173.7 | G39: =(F39-[2]与17年同期销量比较!F38)/[2]与17年同期销量比较!F38*100 -> 12.645926 | H39: 5192627.4 | I39: =(H39-[2]与17年同期销量比较!H38)/[2]与17年同期销量比较!H38*100 -> 18.257541 | J39: =B39+F39 -> 4018662.6 | K39: =(J39-[2]与17年同期销量比较!J38)/[2]与17年同期销量比较!J38*100 -> 5.9415104 | L39: =D39+H39 -> 10417505 | M39: =(L39-[2]与17年同期销量比较!L38)/[2]与17年同期销量比较!L38*100 -> 9.3728227
